BEGIN:VCALENDAR
VERSION:2.0
PRODID:-//Ecclesiact 5.8.10//EN
CALSCALE:GREGORIAN
METHOD:PUBLISH
X-WR-TIMEZONE:America/Toronto
BEGIN:VEVENT
UID:282760729
TRANSP:OPAQUE
STATUS:CONFIRMED
SEQUENCE:0
CLASS:PUBLIC
DTSTART:20101109T120000Z
DTEND:20101109T140000Z
DTSTAMP:20120125T101603Z
SUMMARY:2010 Aurora Mayor's Prayer Breakfast
DESCRIPTION:Prayer, Worship, Music, Testimony  Speaker: Paul Henderson  https://prayforthem.ca/2010/11/09/aurora
LOCATION:DiNardo's Banquet Hall  420 Industrial Parkway South, Aurora, L4G 6W7
END:VEVENT
END:VCALENDAR
